Package: BayesSpace Version: 1.18.4 Command: /home/biocbuild/R/R/bin/R CMD INSTALL BayesSpace StartedAt: 2025-10-13 21:16:36 -0000 (Mon, 13 Oct 2025) EndedAt: 2025-10-13 21:18:26 -0000 (Mon, 13 Oct 2025) EllapsedTime: 109.8 seconds RetCode: 0 Status: OK