Package: BayesSpace Version: 1.18.4 Command: /home/biocbuild/R/R/bin/R CMD build --keep-empty-dirs --no-resave-data BayesSpace StartedAt: 2025-10-13 22:50:11 -0000 (Mon, 13 Oct 2025) EndedAt: 2025-10-13 22:53:41 -0000 (Mon, 13 Oct 2025) EllapsedTime: 210.0 seconds RetCode: 0 Status: OK PackageFile: BayesSpace_1.18.4.tar.gz PackageFileSize: 2.993 MiB