Package: BayesSpace Version: 1.20.0 Command: /Library/Frameworks/R.framework/Resources/bin/R CMD INSTALL BayesSpace StartedAt: 2025-11-02 15:30:41 -0500 (Sun, 02 Nov 2025) EndedAt: 2025-11-02 15:31:05 -0500 (Sun, 02 Nov 2025) EllapsedTime: 24.2 seconds RetCode: 0 Status: OK