Package: BayesSpace Version: 1.20.0 Command: /Library/Frameworks/R.framework/Resources/bin/R CMD build --keep-empty-dirs --no-resave-data BayesSpace StartedAt: 2025-11-02 15:43:19 -0500 (Sun, 02 Nov 2025) EndedAt: 2025-11-02 15:44:21 -0500 (Sun, 02 Nov 2025) EllapsedTime: 61.7 seconds RetCode: 0 Status: OK PackageFile: BayesSpace_1.20.0.tar.gz PackageFileSize: 3.476 MiB