Package: BayesKnockdown Version: 1.36.0 Command: /home/biocbuild/bbs-3.22-bioc/R/bin/R CMD INSTALL BayesKnockdown StartedAt: 2025-11-16 15:13:20 -0500 (Sun, 16 Nov 2025) EndedAt: 2025-11-16 15:13:24 -0500 (Sun, 16 Nov 2025) EllapsedTime: 3.1 seconds RetCode: 0 Status: OK