Package: BatchSVG Version: 1.2.0 Command: /home/biocbuild/R/R/bin/R CMD INSTALL BatchSVG StartedAt: 2025-11-13 22:05:36 -0000 (Thu, 13 Nov 2025) EndedAt: 2025-11-13 22:06:11 -0000 (Thu, 13 Nov 2025) EllapsedTime: 34.4 seconds RetCode: 0 Status: OK