Package: BatchSVG Version: 1.2.0 Command: /home/biocbuild/R/R/bin/R CMD build --keep-empty-dirs --no-resave-data BatchSVG StartedAt: 2025-11-13 23:42:12 -0000 (Thu, 13 Nov 2025) EndedAt: 2025-11-14 00:17:19 -0000 (Fri, 14 Nov 2025) EllapsedTime: 2107.6 seconds RetCode: 0 Status: OK PackageFile: BatchSVG_1.2.0.tar.gz PackageFileSize: 1.041 MiB