Package: BatchSVG Version: 1.2.0 Command: /home/biocbuild/bbs-3.22-bioc/R/bin/R CMD INSTALL BatchSVG StartedAt: 2025-11-11 15:59:28 -0500 (Tue, 11 Nov 2025) EndedAt: 2025-11-11 15:59:55 -0500 (Tue, 11 Nov 2025) EllapsedTime: 27.6 seconds RetCode: 0 Status: OK