Package: BatchSVG Version: 1.2.0 Command: /home/biocbuild/bbs-3.22-bioc/R/bin/R CMD build --keep-empty-dirs --no-resave-data --md5 BatchSVG StartedAt: 2025-11-11 16:26:12 -0500 (Tue, 11 Nov 2025) EndedAt: 2025-11-11 16:29:11 -0500 (Tue, 11 Nov 2025) EllapsedTime: 179.1 seconds RetCode: 0 Status: OK PackageFile: BatchSVG_1.2.0.tar.gz PackageFileSize: 1.533 MiB