Package: BatchSVG Version: 1.0.0 Command: /Library/Frameworks/R.framework/Resources/bin/R CMD INSTALL BatchSVG StartedAt: 2025-10-13 16:40:17 -0400 (Mon, 13 Oct 2025) EndedAt: 2025-10-13 16:41:14 -0400 (Mon, 13 Oct 2025) EllapsedTime: 57.1 seconds RetCode: 0 Status: OK