Package: BatchQC Version: 2.6.0 Command: /home/biocbuild/R/R/bin/R CMD INSTALL BatchQC StartedAt: 2025-11-13 22:07:03 -0000 (Thu, 13 Nov 2025) EndedAt: 2025-11-13 22:07:56 -0000 (Thu, 13 Nov 2025) EllapsedTime: 52.4 seconds RetCode: 0 Status: OK