Package: BatchQC Version: 2.6.0 Command: /home/biocbuild/R/R/bin/R CMD build --keep-empty-dirs --no-resave-data BatchQC StartedAt: 2025-11-13 23:40:56 -0000 (Thu, 13 Nov 2025) EndedAt: 2025-11-14 00:20:57 -0000 (Fri, 14 Nov 2025) EllapsedTime: 2400.7 seconds RetCode: None Status: TIMEOUT PackageFile: None PackageFileSize: NA