Package: BatchQC Version: 2.6.0 Command: /home/biocbuild/bbs-3.22-bioc/R/bin/R CMD check --install=check:BatchQC.install-out.txt --library=/home/biocbuild/bbs-3.22-bioc/R/site-library --timings BatchQC_2.6.0.tar.gz StartedAt: 2025-11-11 21:26:45 -0500 (Tue, 11 Nov 2025) EndedAt: 2025-11-11 21:41:09 -0500 (Tue, 11 Nov 2025) EllapsedTime: 863.6 seconds RetCode: 0 Status: OK CheckDir: BatchQC.Rcheck Warnings: 0