Package: BatchQC Version: 2.4.0 Command: /home/biocbuild/bbs-3.21-bioc/R/bin/R CMD INSTALL BatchQC StartedAt: 2025-10-12 15:51:32 -0400 (Sun, 12 Oct 2025) EndedAt: 2025-10-12 15:52:11 -0400 (Sun, 12 Oct 2025) EllapsedTime: 38.7 seconds RetCode: 0 Status: OK