Package: BatchQC Version: 2.4.0 Command: /home/biocbuild/bbs-3.21-bioc/R/bin/R CMD build --keep-empty-dirs --no-resave-data BatchQC StartedAt: 2025-10-12 16:18:13 -0400 (Sun, 12 Oct 2025) EndedAt: 2025-10-12 16:19:27 -0400 (Sun, 12 Oct 2025) EllapsedTime: 74.1 seconds RetCode: 0 Status: OK PackageFile: BatchQC_2.4.0.tar.gz PackageFileSize: 3.602 MiB