Package: BatchQC Version: 2.4.0 Command: /Library/Frameworks/R.framework/Resources/bin/R CMD INSTALL BatchQC StartedAt: 2025-10-09 18:19:21 -0400 (Thu, 09 Oct 2025) EndedAt: 2025-10-09 18:20:09 -0400 (Thu, 09 Oct 2025) EllapsedTime: 48.2 seconds RetCode: 0 Status: OK