Package: BatchQC Version: 2.4.0 Command: /Library/Frameworks/R.framework/Resources/bin/R CMD build --keep-empty-dirs --no-resave-data BatchQC StartedAt: 2025-10-09 19:49:51 -0400 (Thu, 09 Oct 2025) EndedAt: 2025-10-09 19:51:06 -0400 (Thu, 09 Oct 2025) EllapsedTime: 75.1 seconds RetCode: 0 Status: OK PackageFile: BatchQC_2.4.0.tar.gz PackageFileSize: 3.687 MiB