Package: BasicSTARRseq Version: 1.38.0 Command: /home/biocbuild/R/R/bin/R CMD INSTALL BasicSTARRseq StartedAt: 2025-11-10 21:33:01 -0000 (Mon, 10 Nov 2025) EndedAt: 2025-11-10 21:33:38 -0000 (Mon, 10 Nov 2025) EllapsedTime: 37.1 seconds RetCode: 0 Status: OK