Package: BasicSTARRseq Version: 1.38.0 Command: /home/biocbuild/bbs-3.22-bioc/R/bin/R CMD INSTALL BasicSTARRseq StartedAt: 2025-11-11 15:29:42 -0500 (Tue, 11 Nov 2025) EndedAt: 2025-11-11 15:30:09 -0500 (Tue, 11 Nov 2025) EllapsedTime: 27.0 seconds RetCode: 0 Status: OK