Package: BasicSTARRseq Version: 1.38.0 Command: /home/biocbuild/bbs-3.22-bioc/R/bin/R CMD check --install=check:BasicSTARRseq.install-out.txt --library=/home/biocbuild/bbs-3.22-bioc/R/site-library --timings BasicSTARRseq_1.38.0.tar.gz StartedAt: 2025-11-11 21:24:39 -0500 (Tue, 11 Nov 2025) EndedAt: 2025-11-11 21:27:38 -0500 (Tue, 11 Nov 2025) EllapsedTime: 178.1 seconds RetCode: 0 Status: OK CheckDir: BasicSTARRseq.Rcheck Warnings: 0