Package: BasicSTARRseq Version: 1.36.0 Command: /home/biocbuild/bbs-3.21-bioc/R/bin/R CMD INSTALL BasicSTARRseq StartedAt: 2025-09-28 15:39:44 -0400 (Sun, 28 Sep 2025) EndedAt: 2025-09-28 15:40:10 -0400 (Sun, 28 Sep 2025) EllapsedTime: 26.4 seconds RetCode: 0 Status: OK