Package: BasicSTARRseq Version: 1.36.0 Command: /home/biocbuild/bbs-3.21-bioc/R/bin/R CMD build --keep-empty-dirs --no-resave-data BasicSTARRseq StartedAt: 2025-09-28 16:32:28 -0400 (Sun, 28 Sep 2025) EndedAt: 2025-09-28 16:33:05 -0400 (Sun, 28 Sep 2025) EllapsedTime: 37.0 seconds RetCode: 0 Status: OK PackageFile: BasicSTARRseq_1.36.0.tar.gz PackageFileSize: 552.7 KiB