Package: Basic4Cseq Version: 1.46.0 Command: /home/biocbuild/bbs-3.22-bioc/R/bin/R CMD check --install=check:Basic4Cseq.install-out.txt --library=/home/biocbuild/bbs-3.22-bioc/R/site-library --timings Basic4Cseq_1.46.0.tar.gz StartedAt: 2025-11-11 21:24:03 -0500 (Tue, 11 Nov 2025) EndedAt: 2025-11-11 21:28:10 -0500 (Tue, 11 Nov 2025) EllapsedTime: 246.2 seconds RetCode: 0 Status: OK CheckDir: Basic4Cseq.Rcheck Warnings: 0