Package: Basic4Cseq Version: 1.44.0 Command: /Library/Frameworks/R.framework/Resources/bin/R CMD INSTALL Basic4Cseq StartedAt: 2025-10-09 15:57:49 -0400 (Thu, 09 Oct 2025) EndedAt: 2025-10-09 15:59:05 -0400 (Thu, 09 Oct 2025) EllapsedTime: 76.1 seconds RetCode: 0 Status: OK