Package: BaseSpaceR Version: 1.54.0 Command: /home/biocbuild/R/R/bin/R CMD INSTALL BaseSpaceR StartedAt: 2025-11-10 21:05:01 -0000 (Mon, 10 Nov 2025) EndedAt: 2025-11-10 21:05:26 -0000 (Mon, 10 Nov 2025) EllapsedTime: 24.3 seconds RetCode: 0 Status: OK