Package: BaseSpaceR Version: 1.54.0 Command: /home/biocbuild/R/R/bin/R CMD build --keep-empty-dirs --no-resave-data BaseSpaceR StartedAt: 2025-11-10 23:39:36 -0000 (Mon, 10 Nov 2025) EndedAt: 2025-11-10 23:40:06 -0000 (Mon, 10 Nov 2025) EllapsedTime: 30.0 seconds RetCode: 0 Status: OK PackageFile: BaseSpaceR_1.54.0.tar.gz PackageFileSize: 572.2 KiB