Package: BaseSpaceR Version: 1.54.0 Command: /home/biocbuild/bbs-3.22-bioc/R/bin/R CMD INSTALL BaseSpaceR StartedAt: 2025-11-11 15:07:55 -0500 (Tue, 11 Nov 2025) EndedAt: 2025-11-11 15:08:08 -0500 (Tue, 11 Nov 2025) EllapsedTime: 13.5 seconds RetCode: 0 Status: OK