Package: BaseSpaceR Version: 1.54.0 Command: /home/biocbuild/bbs-3.22-bioc/R/bin/R CMD check --install=check:BaseSpaceR.install-out.txt --library=/home/biocbuild/bbs-3.22-bioc/R/site-library --timings BaseSpaceR_1.54.0.tar.gz StartedAt: 2025-11-11 21:23:59 -0500 (Tue, 11 Nov 2025) EndedAt: 2025-11-11 21:24:46 -0500 (Tue, 11 Nov 2025) EllapsedTime: 47.0 seconds RetCode: 0 Status: WARNINGS CheckDir: BaseSpaceR.Rcheck Warnings: 1