Package: BaseSpaceR Version: 1.54.0 Command: /home/biocbuild/bbs-3.22-bioc/R/bin/R CMD build --keep-empty-dirs --no-resave-data --md5 BaseSpaceR StartedAt: 2025-11-11 16:23:52 -0500 (Tue, 11 Nov 2025) EndedAt: 2025-11-11 16:24:06 -0500 (Tue, 11 Nov 2025) EllapsedTime: 14.0 seconds RetCode: 0 Status: OK PackageFile: BaseSpaceR_1.54.0.tar.gz PackageFileSize: 582.6 KiB