Package: BaseSpaceR Version: 1.52.0 Command: /home/biocbuild/bbs-3.21-bioc/R/bin/R CMD build --keep-empty-dirs --no-resave-data BaseSpaceR StartedAt: 2025-09-28 16:31:33 -0400 (Sun, 28 Sep 2025) EndedAt: 2025-09-28 16:31:46 -0400 (Sun, 28 Sep 2025) EllapsedTime: 13.0 seconds RetCode: 0 Status: OK PackageFile: BaseSpaceR_1.52.0.tar.gz PackageFileSize: 581.2 KiB