Package: BaseSpaceR Version: 1.52.0 Command: rm -rf BaseSpaceR.buildbin-libdir && mkdir BaseSpaceR.buildbin-libdir && /Users/biocbuild/BBS/utils/build-universal.sh BaseSpaceR_1.52.0.tar.gz /Library/Frameworks/R.framework/Resources/bin/R BaseSpaceR.buildbin-libdir StartedAt: 2025-10-14 12:52:23 -0400 (Tue, 14 Oct 2025) EndedAt: 2025-10-14 12:52:50 -0400 (Tue, 14 Oct 2025) EllapsedTime: 27.2 seconds RetCode: 0 Status: OK PackageFile: BaseSpaceR_1.52.0.tgz PackageFileSize: 748.6 KiB