Package: BaseSpaceR Version: 1.52.0 Command: rm -rf BaseSpaceR.buildbin-libdir && mkdir BaseSpaceR.buildbin-libdir && /Users/biocbuild/BBS/utils/build-universal.sh BaseSpaceR_1.52.0.tar.gz /Library/Frameworks/R.framework/Resources/bin/R BaseSpaceR.buildbin-libdir StartedAt: 2025-04-22 00:34:07 -0400 (Tue, 22 Apr 2025) EndedAt: 2025-04-22 00:34:16 -0400 (Tue, 22 Apr 2025) EllapsedTime: 9.2 seconds RetCode: 0 Status: OK PackageFile: BaseSpaceR_1.52.0.tgz PackageFileSize: 749.8 KiB