Package: BaseSpaceR Version: 1.52.0 Command: /Library/Frameworks/R.framework/Resources/bin/R CMD build --keep-empty-dirs --no-resave-data BaseSpaceR StartedAt: 2025-09-25 19:35:44 -0400 (Thu, 25 Sep 2025) EndedAt: 2025-09-25 19:36:05 -0400 (Thu, 25 Sep 2025) EllapsedTime: 21.7 seconds RetCode: 0 Status: OK PackageFile: BaseSpaceR_1.52.0.tar.gz PackageFileSize: 580.9 KiB