Package: BaseSpaceR Version: 1.52.0 Command: rm -rf BaseSpaceR.buildbin-libdir && mkdir BaseSpaceR.buildbin-libdir && /Users/biocbuild/BBS/utils/build-universal.sh BaseSpaceR_1.52.0.tar.gz /Library/Frameworks/R.framework/Resources/bin/R BaseSpaceR.buildbin-libdir StartedAt: 2025-09-27 16:30:00 -0400 (Sat, 27 Sep 2025) EndedAt: 2025-09-27 16:30:09 -0400 (Sat, 27 Sep 2025) EllapsedTime: 8.7 seconds RetCode: 0 Status: OK PackageFile: BaseSpaceR_1.52.0.tgz PackageFileSize: 750.1 KiB