Package: Banksy Version: 1.6.0 Command: /home/biocbuild/bbs-3.22-bioc/R/bin/R CMD INSTALL Banksy StartedAt: 2025-11-13 15:20:36 -0500 (Thu, 13 Nov 2025) EndedAt: 2025-11-13 15:21:02 -0500 (Thu, 13 Nov 2025) EllapsedTime: 26.6 seconds RetCode: 0 Status: OK