Package: BadRegionFinder Version: 1.38.0 Command: /Library/Frameworks/R.framework/Resources/bin/R CMD build --keep-empty-dirs --no-resave-data BadRegionFinder StartedAt: 2025-11-03 16:07:01 -0500 (Mon, 03 Nov 2025) EndedAt: 2025-11-03 16:08:33 -0500 (Mon, 03 Nov 2025) EllapsedTime: 92.4 seconds RetCode: 0 Status: OK PackageFile: BadRegionFinder_1.38.0.tar.gz PackageFileSize: 831.7 KiB