Package: BadRegionFinder Version: 1.36.0 Command: /home/biocbuild/R/R/bin/R CMD build --keep-empty-dirs --no-resave-data BadRegionFinder StartedAt: 2025-10-13 22:42:34 -0000 (Mon, 13 Oct 2025) EndedAt: 2025-10-13 22:44:25 -0000 (Mon, 13 Oct 2025) EllapsedTime: 111.0 seconds RetCode: 0 Status: OK PackageFile: BadRegionFinder_1.36.0.tar.gz PackageFileSize: 824.8 KiB