Package: BaalChIP Version: 1.36.0 Command: /home/biocbuild/bbs-3.22-bioc/R/bin/R CMD INSTALL BaalChIP StartedAt: 2025-11-11 15:29:40 -0500 (Tue, 11 Nov 2025) EndedAt: 2025-11-11 15:30:45 -0500 (Tue, 11 Nov 2025) EllapsedTime: 64.4 seconds RetCode: 0 Status: OK