Package: BaalChIP Version: 1.36.0 Command: /home/biocbuild/bbs-3.22-bioc/R/bin/R CMD check --install=check:BaalChIP.install-out.txt --library=/home/biocbuild/bbs-3.22-bioc/R/site-library --timings BaalChIP_1.36.0.tar.gz StartedAt: 2025-11-13 21:17:47 -0500 (Thu, 13 Nov 2025) EndedAt: 2025-11-13 21:28:22 -0500 (Thu, 13 Nov 2025) EllapsedTime: 635.0 seconds RetCode: 0 Status: WARNINGS CheckDir: BaalChIP.Rcheck Warnings: 1