Package: BaalChIP Version: 1.36.0 Command: /home/biocbuild/bbs-3.22-bioc/R/bin/R CMD build --keep-empty-dirs --no-resave-data --md5 BaalChIP StartedAt: 2025-11-11 16:21:45 -0500 (Tue, 11 Nov 2025) EndedAt: 2025-11-11 16:23:52 -0500 (Tue, 11 Nov 2025) EllapsedTime: 127.1 seconds RetCode: 0 Status: OK PackageFile: BaalChIP_1.36.0.tar.gz PackageFileSize: 45.24 MiB