Package: BaalChIP Version: 1.34.0 Command: /home/biocbuild/bbs-3.21-bioc/R/bin/R CMD INSTALL BaalChIP StartedAt: 2025-10-15 15:24:36 -0400 (Wed, 15 Oct 2025) EndedAt: 2025-10-15 15:25:40 -0400 (Wed, 15 Oct 2025) EllapsedTime: 64.1 seconds RetCode: 0 Status: OK