Package: BaalChIP Version: 1.36.0 Command: /Library/Frameworks/R.framework/Resources/bin/R CMD INSTALL BaalChIP StartedAt: 2025-11-02 15:35:03 -0500 (Sun, 02 Nov 2025) EndedAt: 2025-11-02 15:36:28 -0500 (Sun, 02 Nov 2025) EllapsedTime: 84.9 seconds RetCode: 0 Status: OK