Package: BaalChIP Version: 1.36.0 Command: /Library/Frameworks/R.framework/Resources/bin/R CMD build --keep-empty-dirs --no-resave-data BaalChIP StartedAt: 2025-11-02 16:10:18 -0500 (Sun, 02 Nov 2025) EndedAt: 2025-11-02 16:12:46 -0500 (Sun, 02 Nov 2025) EllapsedTime: 148.3 seconds RetCode: 0 Status: OK PackageFile: BaalChIP_1.36.0.tar.gz PackageFileSize: 45.31 MiB