Package: BaalChIP Version: 1.34.0 Command: /home/biocbuild/R/R/bin/R CMD build --keep-empty-dirs --no-resave-data BaalChIP StartedAt: 2025-10-06 22:41:19 -0000 (Mon, 06 Oct 2025) EndedAt: 2025-10-06 22:44:18 -0000 (Mon, 06 Oct 2025) EllapsedTime: 179.0 seconds RetCode: 0 Status: OK PackageFile: BaalChIP_1.34.0.tar.gz PackageFileSize: 45.21 MiB