Package: BaalChIP Version: 1.34.0 Command: rm -rf BaalChIP.buildbin-libdir && mkdir BaalChIP.buildbin-libdir && /Users/biocbuild/BBS/utils/build-universal.sh BaalChIP_1.34.0.tar.gz /Library/Frameworks/R.framework/Resources/bin/R BaalChIP.buildbin-libdir StartedAt: 2025-10-15 17:28:02 -0400 (Wed, 15 Oct 2025) EndedAt: 2025-10-15 17:29:47 -0400 (Wed, 15 Oct 2025) EllapsedTime: 105.3 seconds RetCode: 0 Status: OK PackageFile: BaalChIP_1.34.0.tgz PackageFileSize: 100.2 MiB