Package: BUSseq Version: 1.16.0 Command: /home/biocbuild/bbs-3.22-bioc/R/bin/R CMD build --keep-empty-dirs --no-resave-data --md5 BUSseq StartedAt: 2025-11-11 16:40:55 -0500 (Tue, 11 Nov 2025) EndedAt: 2025-11-11 16:41:51 -0500 (Tue, 11 Nov 2025) EllapsedTime: 56.0 seconds RetCode: 0 Status: OK PackageFile: BUSseq_1.16.0.tar.gz PackageFileSize: 1013 KiB