Package: BUSseq Version: 1.14.0 Command: /home/biocbuild/R/R/bin/R CMD INSTALL BUSseq StartedAt: 2025-10-13 20:31:45 -0000 (Mon, 13 Oct 2025) EndedAt: 2025-10-13 20:32:24 -0000 (Mon, 13 Oct 2025) EllapsedTime: 39.5 seconds RetCode: 0 Status: OK