Package: BUSseq Version: 1.14.0 Command: /home/biocbuild/R/R/bin/R CMD build --keep-empty-dirs --no-resave-data BUSseq StartedAt: 2025-10-13 23:18:23 -0000 (Mon, 13 Oct 2025) EndedAt: 2025-10-13 23:19:42 -0000 (Mon, 13 Oct 2025) EllapsedTime: 79.0 seconds RetCode: 0 Status: OK PackageFile: BUSseq_1.14.0.tar.gz PackageFileSize: 1.035 MiB