Package: BUScorrect Version: 1.28.0 Command: /home/biocbuild/bbs-3.22-bioc/R/bin/R CMD INSTALL BUScorrect StartedAt: 2025-11-11 15:22:31 -0500 (Tue, 11 Nov 2025) EndedAt: 2025-11-11 15:22:50 -0500 (Tue, 11 Nov 2025) EllapsedTime: 19.1 seconds RetCode: 0 Status: OK