Package: BUScorrect Version: 1.26.0 Command: /home/biocbuild/R/R/bin/R CMD INSTALL BUScorrect StartedAt: 2025-10-13 20:30:58 -0000 (Mon, 13 Oct 2025) EndedAt: 2025-10-13 20:31:29 -0000 (Mon, 13 Oct 2025) EllapsedTime: 30.4 seconds RetCode: 0 Status: OK